Workbook
Name Print_Area_MI: '22現有人數'!$A$3:$L$27
Name PRINT_AREA_MI: '22現有人數'!$A$3:$L$27

Sheet 目錄
A3: 中華民國109年 | L3: 2020
A5: 新竹市警政統計年報 | L5: The Statiatical Yearbook of Hcinchu City Police Bureau
A7: 第16期 | L7: Issue 16
A9: ★ 目錄 ★ | L9: ★ Content ★
C12: 重要警政統計指標 | M12: Statistical Indicators of Police Administration in Hsinchu City
C13: 一、治安 | M13: I.Public Security
D14: 表 1、新竹市刑事案件 | N14: 1、Criminal Cases in Hsinchu City
D15: 表 2、新竹市刑事案件嫌疑犯人數-按年齡組別 | N15: 2、Offenders by Age in Hsinchu City
D16: 表 3、新竹市檢肅毒品數量 | N16: 3、The Quantities of Drugs in Hsinchu City
D17: 表 4、新竹市防止及處理少年事件 | N17: 4、Preventing and Treatment Juvenile Delinquency in Hsinchu City
D18: 表 5、新竹市查獲槍砲彈藥刀械數量 | N18: 5、Illegal Guns, Pistols, Ammunition and Knives Captured in Hsinchu City
D19: 表 6、新竹市處理違反社會秩序維護法案件 | N19: 6、Violation of the Law for Maintaining Public Order in Hsinchu City
D20: 表 7、新竹市查獲經濟案件 | N20: 7、Discovered Economic Frauds in Hsinchu City
C21: 二、交通 | M21: II.Transportation
D22: 表 8、新竹市道路交通事故件數及死傷人數 | N22: 8、Cases of Traffic Accidents and Casualties in Hsinchu City
D23: 表 9、新竹市道路交通事故肇事原因分類件數 | N23: 9、Causes of Traffic Accidents in Hsinchu City
D24: 表10、新竹市道路交通事故肇事車種分類件數 | N24: 10、Related Vehicles of Traffic Accidents in Hsinchu City
D25: 表11、新竹市道路交通事故肇事場所分類件數 | N25: 11、Traffic Accidents by Highway Type and Road Type in Hsinchu City
D26: 表12、新竹市道路交通事故肇事時間分類件數 | N26: 12、Traffic Accidents by Happened Time in Hsinchu City
D27: 表13、新竹市舉發違反道路交通管理事件成果 | N27: 13、Statistics of the Reported Incidents of Traffic Violations in Hsinchu City
D28: 表14、新竹市舉發違反道路交通管理事件成果-按車種別 | N28: 14、Statistics of the Reported Incidents of Traffic Violations by vehicles in Hsinchu City
D29: 表15、新竹市機動車輛分類車輛數 | N29: 15、Number of Registered Motor Vehicles in Hsinchu City
C30: 三、戶口 | D30: 保安民防 | M30: III.Peace Preservation and Civil Defense
D31: 表16、新竹市處理集會遊行案件 | N31: 16、Number of Assembly and Parade Patrolled in Hsinchu City
D32: 表17、新竹市社區治安工作績效 | N32: 17、Community Security Performance in Hsinchu City
C33: 四、行政 | M33: IV.Administrative Affairs
D34: 表18、新竹市取締攤販績效 | N34: 18、Records of Banned Unlicensed Street Peddlers in Hsinchu City
D35: 表20、新竹市輔導民間建立守望相助組織協助維護治安績效 | N35: 20、Number of Cases Solved with the Assistance of Neighborhood Watches Connunities in Hsinchu City
C36: 五、戶口 | M36: V.Household Registration
D37: 表19、新竹市執行警勤區訪查工作成果統計 | N37: 19、 Household Registration Cases Statistics in Hsinchu City
D38: 表20、新竹市失蹤人口統計 | N38: 20、Missing Population in Hsinchu City
D39: 表21、新竹市里、鄰、戶數及現住人口數 | N39: 21、Number of Ts`uns & Lins，Neighborhood，Households and Population
C40: 六、人事及經費 | M40: VI.Personnel and Budgetary Expenditures
D41: 表22、新竹市警察局編制員額與現有人數 | N41: 22、The Personnel Management and Actual Number of Personnel of Hsinchu City Police Bureau
D42: 表23、新竹市警察局現有人數-按職等別 | N42: 23、Actual Number of Personnel of Hsinchu City Police Bureau by Official Grades
D43: 表24、新竹市警察局歲入預、決算 | N43: 24、Budget and Settled Account of Revenues of Hsinchu City Police Bureau
D44: 表25、新竹市警察局歲出預、決算 | N44: 25、Budget and Settled Account of Expenditures of Hsinchu City Police Bureau

Sheet 數據資料
E3: 公式 | F3: input data | G3: 公式
B4: 年(月)別 | F4: 全 般 刑 案 Crime Volume | O4: 竊 盜 | AA4: 暴 力 犯 罪 Violent Crime | AR4: 詐欺 Fraud | AT4: 毒 品 Drugs | BR4: 經 濟 案 件 Economic Frauds | CE4: 道 路 交 通 Traffic
B5: 先至指標表copy | D5: 人口數 | E5: 年中人口數 | F5: 發生數 | M5: 破獲數 | N5: 嫌疑犯 | O5: 發生數 | T5: 破獲數 | Y5: 嫌疑犯 | AA5: 發生數 | AI5: 破獲數 | AJ5: 破獲數 | AQ5: 嫌疑犯 | AR5: 發生數 | AS5: 破獲數 | AT5: 破獲數 | AY5: 嫌疑犯 | AZ5: 查獲數量 | BB5: 0-11 | BD5: 兒童嫌疑犯 Child Offenders | BF5: 12-17 | BH5: 少年嫌疑犯 Juvenile Offenders | BJ5: 18-23 | BL5: 青年嫌疑犯 Adolescent Offenders | BN5: 24~ | BP5: 成年嫌疑犯 Adult Offenders | BR5: 合計 Total | BT5: 違反金融 Against Finance Acts | BV5: 違反洗錢防制法 Violation of Money Laundering Control Act | BX5: 侵害智慧財產權 Infringement of Intellectual Property Rights | BZ5: 其他 Others | CC5: 車輛數 | CD5: 年中車輛 | CE5: A1道路交通事故 Traffic Accident | CH5: 舉發違反道路交通管理事件 Incidents of Traffic Violations
F6: （件） | G6: 竊盜 | H6: 暴力犯罪 | I6: 詐欺 | J6: 毒品 | K6: 公共危險 | L6: 其他 | M6: （件） | N6: （人） | O6: （件） | P6: 重大竊盜 | Q6: 普通竊盜 | R6: 汽車竊盜 | S6: 機車竊盜 | T6: （件） | U6: 重大竊盜 | V6: 普通竊盜 | W6: 汽車竊盜 | X6: 機車竊盜 | Y6: （人） | AA6: （件） | AB6: 故意殺人 | AC6: 擄人勒贖 | AD6: 強盜 | AE6: 搶奪 | AF6: 重傷害 | AG6: 恐嚇取財 | AH6: 強制性交 | AI6: （件） | AJ6: 故意殺人 | AK6: 擄人勒贖 | AL6: 強盜 | AM6: 搶奪 | AN6: 重傷害 | AO6: 恐嚇取財 | AP6: 強制性交 | AQ6: （人） | AR6: （件） | AS6: （件） | AT6: （件） | AU6: 第一級毒品 | AV6: 第二級毒品 | AW6: 第三級毒品 | AX6: 第四級毒品 及其他 | AY6: （人） | AZ6: (公克) | BB6: 兒童 人口數 | BC6: 年中 人口數 | BD6: 人數 | BE6: 兒童 犯罪人口率 | BF6: 少年 人口數 | BG6: 年中 人口數 | BH6: 人數 | BI6: 少年 犯罪人口率 | BJ6: 青年 人口數 | BK6: 年中 人口數 | BL6: 人數 | BM6: 青年 犯罪人口率 | BN6: 成年 人口數 | BO6: 年中 人口數 | BP6: 人數 | BQ6: 成年 犯罪人口率 | BR6: 件數 | BS6: 金額 | BT6: 件數 | BU6: 金額 | BV6: 件數 | BW6: 金額 | BX6: 件數 | BY6: 金額 | BZ6: 件數 | CA6: 金額 | CE6: 件數 | CF6: 死亡 | CG6: 受傷 | CH6: 件數 | CI6: 移公路 監理機關 | CJ6: 警察機關,其他
A7: 序號 | C7: 西元年 | E7: 須調整第1行公式 | G7: （%） | H7: （%） | I7: （%） | J7: （%） | K7: （%） | L7: （%） | O7: ** | P7: （%） | Q7: （%） | R7: （%） | S7: （%） | U7: （%） | V7: （%） | W7: （%） | X7: （%） | AU7: （%） | AV7: （%） | AW7: （%） | AX7: （%） | BR7: （件） | BS7: （千元） | BT7: （件） | BU7: （千元） | BV7: （件） | BW7: （千元） | BX7: （件） | BY7: （千元） | BZ7: （件） | CA7: （千元） | CE7: （件） | CF7: （人） | CG7: （人） | CH7: （件） | CI7: （件） | CJ7: （件）
B8: 民國89年 | D8: 368439 | E8: 365198.5 | F8: 12177 | G8: 10187 | H8: 238 | J8: 607 | K8: 262 | L8: =F8-SUM(G8:K8) -> 883 | M8: 5640 | N8: 2973 | O8: 10187 | P8: 7 | Q8: 1342 | R8: 1301 | S8: 7537 | T8: 4048 | U8: 4 | V8: 424 | W8: 617 | X8: 3003 | Y8: 826 | AA8: 238 | AB8: 30 | AC8: 0 | AD8: 55 | AE8: 126 | AF8: 1 | AG8: 0 | AH8: 26 | AI8: 182 | AJ8: 29 | AK8: 0 | AL8: 56 | AM8: 75 | AN8: 1 | AO8: 0 | AP8: 21 | AQ8: 189 | AR8: 0 | AS8: 0 | AT8: 572 | AU8: 99 | AV8: 464 | AW8: 1 | AX8: 8 | AY8: 824 | AZ8: 9580.79 | BB8: 67703 | BC8: 67386.5 | BD8: 8 | BE8: 1.1871814 | BF8: 33371 | BG8: 33574 | BH8: 358 | BI8: 106.63013 | BJ8: 37160 | BK8: 37175 | BL8: 655 | BM8: 176.19368 | BN8: 230205 | BO8: 227063 | BP8: 1952 | BQ8: 85.967331 | BR8: 85 | BS8: 48796 | BT8: 29 | BU8: 4362 | BX8: 49 | BY8: 44321 | BZ8: 7 | CA8: 113 | CC8: 312136 | CD8: 304502.5 | CE8: 51 | CF8: 52 | CG8: 18 | CJ8: 0
B9: 民國90年 | D9: 373296 | E9: 370867.5 | F9: 12300 | G9: 9710 | H9: 277 | J9: 440 | K9: 443 | L9: =F9-SUM(G9:K9) -> 1430 | M9: 6730 | N9: 3368 | O9: 9710 | P9: 5 | Q9: 1866 | R9: 1438 | S9: 6401 | T9: 4819 | U9: 4 | V9: 454 | W9: 752 | X9: 3609 | Y9: 811 | AA9: 277 | AB9: 35 | AC9: 4 | AD9: 79 | AE9: 105 | AF9: 1 | AG9: 7 | AH9: 46 | AI9: 228 | AJ9: 35 | AK9: 2 | AL9: 67 | AM9: 73 | AN9: 1 | AO9: 4 | AP9: 46 | AQ9: 269 | AR9: 0 | AS9: 0 | AT9: 427 | AU9: 157 | AV9: 248 | AW9: 0 | AX9: 22 | AY9: 609 | AZ9: 5750.86 | BB9: 68094 | BC9: 67898.5 | BD9: 12 | BE9: 1.7673439 | BF9: 32779 | BG9: 33075 | BH9: 395 | BI9: 119.42555 | BJ9: 37340 | BK9: 37250 | BL9: 640 | BM9: 171.81208 | BN9: 235083 | BO9: 232644 | BP9: 2321 | BQ9: 99.766166 | BR9: 51 | BS9: 9827 | BT9: 21 | BU9: 2626 | BX9: 30 | BY9: 7201 | BZ9: 0 | CA9: 0 | CC9: 320168 | CD9: =(CC8+CC9)/2 -> 316152 | CE9: 50 | CF9: 50 | CG9: 17 | CH9: 340179 | CI9: 324063 | CJ9: 16116
B10: 民國91年 | D10: 378797 | E10: =(D10+D9)/2 -> 376046.5 | F10: 12543 | G10: =O10 -> 9749 | H10: =AA10 -> 345 | J10: 528 | K10: 418 | L10: =F10-SUM(G10:K10) -> 1503 | M10: 8010 | N10: 3904 | O10: =SUM(P10:S10) -> 9749 | P10: 4 | Q10: 1792 | R10: 1238 | S10: 6715 | T10: 5904 | U10: 6 | V10: 725 | W10: 861 | X10: 4312 | Y10: 919 | AA10: =SUM(AB10:AH10) -> 345 | AB10: 24 | AC10: 3 | AD10: 100 | AE10: 158 | AF10: 1 | AG10: 1 | AH10: 58 | AI10: =SUM(AJ10:AP10) -> 294 | AJ10: 21 | AK10: 3 | AL10: 94 | AM10: 101 | AN10: 1 | AO10: 1 | AP10: 73 | AQ10: 308 | AR10: =I10 -> 0 | AS10: 0 | AT10: 581 | AU10: 306 | AV10: 264 | AW10: 0 | AX10: =AT10-SUM(AU10:AW10) -> 11 | AY10: 807 | AZ10: 4308.31 | BB10: 68126 | BC10: =(BB10+BB9)/2 -> 68110 | BD10: 9 | BE10: =BD10/BC10*10000 -> 1.3213919 | BF10: 32884 | BG10: =(BF10+BF9)/2 -> 32831.5 | BH10: 319 | BI10: =BH10/BG10*10000 -> 97.162786 | BJ10: 36903 | BK10: =(BJ10+BJ9)/2 -> 37121.5 | BL10: 686 | BM10: =BL10/BK10*10000 -> 184.79857 | BN10: 240884 | BO10: =(BN10+BN9)/2 -> 237983.5 | BP10: 2890 | BQ10: =BP10/BO10*10000 -> 121.43699 | BR10: 73 | BS10: 20346 | BT10: 20 | BU10: 3468 | BX10: 44 | BY10: 14384 | BZ10: =BR10-BT10-BX10 -> 9 | CA10: =BS10-BU10-BY10 -> 2494 | CC10: 323124 | CD10: =(CC9+CC10)/2 -> 321646 | CE10: 45 | CF10: 45 | CG10: 18 | CH10: 361918 | CI10: 350065 | CJ10: =CH10-CI10 -> 11853
B11: 民國92年 | D11: 382897 | E11: =(D11+D10)/2 -> 380847 | F11: 11870 | G11: =O11 -> 9514 | H11: =AA11 -> 203 | J11: 281 | K11: 356 | L11: =F11-SUM(G11:K11) -> 1516 | M11: 7089 | N11: 2502 | O11: =SUM(P11:S11) -> 9514 | P11: 2 | Q11: 1594 | R11: 1342 | S11: 6576 | T11: =SUM(U11:X11) -> 5380 | U11: 0 | V11: 483 | W11: 831 | X11: 4066 | Y11: 595 | AA11: =SUM(AB11:AH11) -> 203 | AB11: 19 | AC11: 3 | AD11: 63 | AE11: 59 | AF11: 3 | AG11: 0 | AH11: 56 | AI11: =SUM(AJ11:AP11) -> 158 | AJ11: 17 | AK11: 2 | AL11: 51 | AM11: 34 | AN11: 3 | AO11: 0 | AP11: 51 | AQ11: 183 | AR11: =I11 -> 0 | AS11: 0 | AT11: 345 | AU11: 185 | AV11: 131 | AW11: 1 | AX11: =AT11-SUM(AU11:AW11) -> 28 | AY11: 480 | AZ11: 9262.2 | BB11: 67439 | BC11: =(BB11+BB10)/2 -> 67782.5 | BD11: 7 | BE11: =ROUND(BD11/BC11*10000,2) -> 1.03 | BF11: 33097 | BG11: =(BF11+BF10)/2 -> 32990.5 | BH11: 264 | BI11: =BH11/BG11*10000 -> 80.023037 | BJ11: 35903 | BK11: =(BJ11+BJ10)/2 -> 36403 | BL11: 430 | BM11: =BL11/BK11*10000 -> 118.12213 | BN11: 246458 | BO11: =(BN11+BN10)/2 -> 243671 | BP11: 1801 | BQ11: =BP11/BO11*10000 -> 73.911134 | BR11: 106 | BS11: 53724 | BT11: 26 | BU11: 29798 | BX11: 72 | BY11: 12460 | BZ11: =BR11-BT11-BX11 -> 8 | CA11: =BS11-BU11-BY11 -> 11466 | CC11: 331251 | CD11: =(CC10+CC11)/2 -> 327187.5 | CE11: 47 | CF11: 47 | CG11: 22 | CH11: 303890 | CI11: 298305 | CJ11: =CH11-CI11 -> 5585
B12: 民國93年 | D12: 386950 | E12: =(D12+D11)/2 -> 384923.5 | F12: 12309 | G12: =O12 -> 8721 | H12: =AA12 -> 181 | J12: 542 | K12: 537 | L12: =F12-SUM(G12:K12) -> 2328 | M12: 7770 | N12: 3435 | O12: =SUM(P12:S12) -> 8721 | P12: 5 | Q12: 1648 | R12: 1445 | S12: 5623 | T12: =SUM(U12:X12) -> 4772 | U12: 4 | V12: 553 | W12: 838 | X12: 3377 | Y12: 682 | AA12: =SUM(AB12:AH12) -> 181 | AB12: 24 | AC12: 2 | AD12: 44 | AE12: 62 | AF12: 2 | AG12: 1 | AH12: 46 | AI12: =SUM(AJ12:AP12) -> 141 | AJ12: 23 | AK12: 1 | AL12: 39 | AM12: 32 | AN12: 2 | AO12: 1 | AP12: 43 | AQ12: 172 | AR12: =I12 -> 0 | AS12: 0 | AT12: 614 | AU12: 281 | AV12: 193 | AW12: 14 | AX12: =AT12-SUM(AU12:AW12) -> 126 | AY12: 774 | AZ12: 4556.94 | BB12: 66803 | BC12: =(BB12+BB11)/2 -> 67121 | BD12: 4 | BE12: =ROUND(BD12/BC12*10000,2) -> 0.6 | BF12: 33730 | BG12: =(BF12+BF11)/2 -> 33413.5 | BH12: 316 | BI12: =BH12/BG12*10000 -> 94.572553 | BJ12: 34461 | BK12: =(BJ12+BJ11)/2 -> 35182 | BL12: 468 | BM12: =BL12/BK12*10000 -> 133.02257 | BN12: 251956 | BO12: =(BN12+BN11)/2 -> 249207 | BP12: 2647 | BQ12: =BP12/BO12*10000 -> 106.21692 | BR12: 126 | BS12: 11590 | BT12: 42 | BU12: 4468 | BX12: 75 | BY12: 6841 | BZ12: =BR12-BT12-BX12 -> 9 | CA12: =BS12-BU12-BY12 -> 281 | CC12: 344851 | CD12: =(CC11+CC12)/2 -> 338051 | CE12: 36 | CF12: 36 | CG12: 11 | CH12: 308749 | CI12: 303980 | CJ12: =CH12-CI12 -> 4769
B13: 民國 94年 | D13: 390692 | E13: =(D13+D12)/2 -> 388821 | F13: 11065 | G13: =O13 -> 6691 | H13: =AA13 -> 207 | I13: 1161 | J13: 791 | K13: 650 | L13: =F13-SUM(G13:K13) -> 1565 | M13: 7296 | N13: 4051 | O13: =SUM(P13:S13) -> 6691 | P13: 6 | Q13: 2348 | R13: 1059 | S13: 3278 | T13: =SUM(U13:X13) -> 4100 | U13: 5 | V13: 821 | W13: 653 | X13: 2621 | Y13: 819 | AA13: =SUM(AB13:AH13) -> 207 | AB13: 17 | AC13: 3 | AD13: 58 | AE13: 83 | AF13: 1 | AG13: 0 | AH13: 45 | AI13: =SUM(AJ13:AP13) -> 161 | AJ13: 16 | AK13: 4 | AL13: 57 | AM13: 38 | AN13: 1 | AO13: 0 | AP13: 45 | AQ13: 173 | AR13: =I13 -> 1161 | AS13: 569 | AT13: 1002 | AU13: 450 | AV13: 326 | AW13: 11 | AX13: =AT13-SUM(AU13:AW13) -> 215 | AY13: 1112 | AZ13: 4663.53 | BB13: 65622 | BC13: =(BB13+BB12)/2 -> 66212.5 | BD13: 13 | BE13: =ROUND(BD13/BC13*10000,2) -> 1.96 | BF13: 34339 | BG13: =(BF13+BF12)/2 -> 34034.5 | BH13: 247 | BI13: =BH13/BG13*10000 -> 72.573418 | BJ13: 33050 | BK13: =(BJ13+BJ12)/2 -> 33755.5 | BL13: 465 | BM13: =BL13/BK13*10000 -> 137.75533 | BN13: 257681 | BO13: =(BN13+BN12)/2 -> 254818.5 | BP13: 3326 | BQ13: =BP13/BO13*10000 -> 130.52428 | BR13: 134 | BS13: 18514 | BT13: 49 | BU13: 11138 | BX13: 75 | BY13: 7172 | BZ13: =BR13-BT13-BX13 -> 10 | CA13: =BS13-BU13-BY13 -> 204 | CC13: 356587 | CD13: =(CC12+CC13)/2 -> 350719 | CE13: 42 | CF13: 42 | CG13: 21 | CH13: 270910 | CI13: 267459 | CJ13: =CH13-CI13 -> 3451
B14: 民國 95年 | D14: 394757 | E14: =(D14+D13)/2 -> 392724.5 | F14: 9676 | G14: =O14 -> 5510 | H14: =AA14 -> 201 | I14: 919 | J14: 579 | K14: 704 | L14: =F14-SUM(G14:K14) -> 1763 | M14: 6613 | N14: 4231 | O14: =SUM(P14:S14) -> 5510 | P14: 1 | Q14: 2278 | R14: 584 | S14: 2647 | T14: =SUM(U14:X14) -> 3322 | U14: 1 | V14: 612 | W14: 351 | X14: 2358 | Y14: 725 | AA14: =SUM(AB14:AH14) -> 201 | AB14: 20 | AC14: 2 | AD14: 49 | AE14: 75 | AF14: 2 | AG14: 0 | AH14: 53 | AI14: =SUM(AJ14:AP14) -> 148 | AJ14: 19 | AK14: 2 | AL14: 38 | AM14: 31 | AN14: 0 | AO14: 0 | AP14: 58 | AQ14: 198 | AR14: =I14 -> 919 | AS14: 736 | AT14: 862 | AU14: 533 | AV14: 324 | AW14: 3 | AX14: =AT14-SUM(AU14:AW14) -> 2 | AY14: 960 | AZ14: 5571.05 | BB14: 64822 | BC14: =(BB14+BB13)/2 -> 65222 | BD14: 5 | BE14: =ROUND(BD14/BC14*10000,2) -> 0.77 | BF14: 34200 | BG14: =(BF14+BF13)/2 -> 34269.5 | BH14: 397 | BI14: =BH14/BG14*10000 -> 115.84645 | BJ14: 32472 | BK14: =(BJ14+BJ13)/2 -> 32761 | BL14: 589 | BM14: =BL14/BK14*10000 -> 179.78694 | BN14: 263263 | BO14: =(BN14+BN13)/2 -> 260472 | BP14: 3240 | BQ14: =BP14/BO14*10000 -> 124.38957 | BR14: 134 | BS14: 50543 | BT14: 69 | BU14: 31389 | BX14: 49 | BY14: 10362 | BZ14: =BR14-BT14-BX14 -> 16 | CA14: =BS14-BU14-BY14 -> 8792 | CC14: 363824 | CD14: =(CC14+CC13)/2 -> 360205.5 | CE14: 53 | CF14: 55 | CG14: 13 | CH14: 258356 | CI14: 255018 | CJ14: =CH14-CI14 -> 3338
A15: 1行 | B15: 民國 96年 | C15: 2007 | D15: 399035 | E15: =(D15+D14)/2 -> 396896 | F15: 9932 | G15: =O15 -> 5547 | H15: =AA15 -> 139 | I15: 1053 | J15: 509 | K15: 901 | L15: =F15-SUM(G15:K15) -> 1783 | M15: 7185 | N15: 4499 | O15: =SUM(P15:S15) -> 5547 | P15: 4 | Q15: 1861 | R15: 798 | S15: 2884 | T15: =SUM(U15:X15) -> 3595 | U15: 2 | V15: 684 | W15: 526 | X15: 2383 | Y15: 694 | AA15: =SUM(AB15:AH15) -> 139 | AB15: 13 | AC15: 0 | AD15: 33 | AE15: 40 | AF15: 0 | AG15: 0 | AH15: 53 | AI15: =SUM(AJ15:AP15) -> 126 | AJ15: 15 | AK15: 0 | AL15: 26 | AM15: 29 | AN15: 0 | AO15: 0 | AP15: 56 | AQ15: 155 | AR15: =I15 -> 1053 | AS15: 972 | AT15: 687 | AU15: 324 | AV15: 353 | AW15: 10 | AX15: =AT15-SUM(AU15:AW15) -> 0 | AY15: 773 | AZ15: 2747.91 | BB15: 63900 | BC15: =(BB15+BB14)/2 -> 64361 | BD15: 6 | BE15: =ROUND(BD15/BC15*10000,2) -> 0.93 | BF15: 34923 | BG15: =(BF15+BF14)/2 -> 34561.5 | BH15: 331 | BI15: =BH15/BG15*10000 -> 95.771306 | BJ15: 31783 | BK15: =(BJ15+BJ14)/2 -> 32127.5 | BL15: 578 | BM15: =BL15/BK15*10000 -> 179.90818 | BN15: 268429 | BO15: =(BN15+BN14)/2 -> 265846 | BP15: 3584 | BQ15: =BP15/BO15*10000 -> 134.81489 | BR15: 183 | BS15: 240654 | BT15: 97 | BU15: 132248 | BV15: 0 | BX15: 61 | BY15: 105458 | BZ15: =BR15-BT15-BX15-BV15 -> 25 | CA15: =BS15-BU15-BY15-BW15 -> 2948 | CC15: 373977 | CD15: =(CC14+CC15)/2 -> 368900.5 | CE15: 33 | CF15: 34 | CG15: 10 | CH15: 162858 | CI15: 158929 | CJ15: =CH15-CI15 -> 3929
A16: 插入 | B16: 民國 97年 | C16: 2008 | D16: 405371 | E16: =(D16+D15)/2 -> 402203 | F16: 7936 | G16: =O16 -> 4218 | H16: =AA16 -> 125 | I16: 955 | J16: 661 | K16: 706 | L16: =F16-SUM(G16:K16) -> 1271 | M16: 6366 | N16: 4575 | O16: =SUM(P16:S16) -> 4218 | P16: 2 | Q16: 1449 | R16: 590 | S16: 2177 | T16: =SUM(U16:X16) -> 2918 | U16: 0 | V16: 641 | W16: 372 | X16: 1905 | Y16: 779 | AA16: =SUM(AB16:AH16) -> 125 | AB16: 11 | AC16: 0 | AD16: 19 | AE16: 29 | AF16: 1 | AG16: 0 | AH16: 65 | AI16: =SUM(AJ16:AP16) -> 128 | AJ16: 10 | AK16: 0 | AL16: 23 | AM16: 32 | AN16: 1 | AO16: 0 | AP16: 62 | AQ16: 160 | AR16: =I16 -> 955 | AS16: 1010 | AT16: 839 | AU16: 481 | AV16: 346 | AW16: 11 | AX16: =AT16-SUM(AU16:AW16) -> 1 | AY16: 941 | AZ16: 8251.05 | BB16: 63265 | BC16: =(BB16+BB15)/2 -> 63582.5 | BD16: 10 | BE16: =ROUND(BD16/BC16*10000,2) -> 1.57 | BF16: 35189 | BG16: =(BF16+BF15)/2 -> 35056 | BH16: 215 | BI16: =BH16/BG16*10000 -> 61.330443 | BJ16: 31798 | BK16: =(BJ16+BJ15)/2 -> 31790.5 | BL16: 539 | BM16: =BL16/BK16*10000 -> 169.54751 | BN16: 275119 | BO16: =(BN16+BN15)/2 -> 271774 | BP16: 3811 | BQ16: =BP16/BO16*10000 -> 140.22681 | BR16: 177 | BS16: 59825 | BT16: 121 | BU16: 53907 | BV16: 0 | BX16: 43 | BY16: 1444 | BZ16: =BR16-BT16-BX16-BV16 -> 13 | CA16: =BS16-BU16-BY16-BW16 -> 4474 | CC16: 384019 | CD16: =(CC15+CC16)/2 -> 378998 | CE16: 28 | CF16: 29 | CG16: 16 | CH16: 217821 | CI16: 214826 | CJ16: =CH16-CI16 -> 2995
B17: 民國 98年 | C17: 2009 | D17: 411587 | E17: =(D17+D16)/2 -> 408479 | F17: 6515 | G17: =O17 -> 3172 | H17: =AA17 -> 76 | I17: 762 | J17: 524 | K17: 889 | L17: =F17-SUM(G17:K17) -> 1092 | M17: 5720 | N17: 4714 | O17: =SUM(P17:S17) -> 3172 | P17: 0 | Q17: 992 | R17: 511 | S17: 1669 | T17: =SUM(U17:X17) -> 2354 | U17: 0 | V17: 683 | W17: 220 | X17: 1451 | Y17: 768 | AA17: =SUM(AB17:AH17) -> 76 | AB17: 10 | AC17: 0 | AD17: 18 | AE17: 17 | AF17: 1 | AG17: 0 | AH17: 30 | AI17: =SUM(AJ17:AP17) -> 84 | AJ17: 13 | AK17: 0 | AL17: 22 | AM17: 20 | AN17: 1 | AO17: 0 | AP17: 28 | AQ17: 109 | AR17: =I17 -> 762 | AS17: 931 | AT17: 622 | AU17: 291 | AV17: 314 | AW17: 17 | AX17: =AT17-SUM(AU17:AW17) -> 0 | AY17: 742 | AZ17: 169344.85 | BB17: 62445 | BC17: =(BB17+BB16)/2 -> 62855 | BD17: 6 | BE17: =ROUND(BD17/BC17*10000,2) -> 0.95 | BF17: 35678 | BG17: =(BF17+BF16)/2 -> 35433.5 | BH17: 267 | BI17: =BH17/BG17*10000 -> 75.352421 | BJ17: 32064 | BK17: =(BJ17+BJ16)/2 -> 31931 | BL17: 510 | BM17: =BL17/BK17*10000 -> 159.71939 | BN17: 281400 | BO17: =(BN17+BN16)/2 -> 278259.5 | BP17: 3931 | BQ17: =BP17/BO17*10000 -> 141.27101 | BR17: 160 | BS17: 251584 | BT17: 96 | BU17: 217343 | BV17: 0 | BX17: 33 | BY17: 26916 | BZ17: =BR17-BT17-BX17-BV17 -> 31 | CA17: =BS17-BU17-BY17-BW17 -> 7325 | CC17: 392140 | CD17: =(CC16+CC17)/2 -> 388079.5 | CE17: 31 | CF17: 31 | CG17: 10 | CH17: 204936 | CI17: 202640 | CJ17: =CH17-CI17 -> 2296
B18: 民國 99年 | C18: 2010 | D18: 415344 | E18: =(D18+D17)/2 -> 413465.5 | F18: 6386 | G18: =O18 -> 2796 | H18: =AA18 -> 69 | I18: 564 | J18: 632 | K18: 936 | L18: =F18-SUM(G18:K18) -> 1389 | M18: 5676 | N18: 5049 | O18: =SUM(P18:S18) -> 2796 | P18: 0 | Q18: 866 | R18: 483 | S18: 1447 | T18: =SUM(U18:X18) -> 2271 | U18: 2 | V18: 667 | W18: 321 | X18: 1281 | Y18: 801 | AA18: =SUM(AB18:AH18) -> 69 | AB18: 7 | AC18: 1 | AD18: 18 | AE18: 7 | AF18: 1 | AG18: 0 | AH18: 35 | AI18: =SUM(AJ18:AP18) -> 68 | AJ18: 7 | AK18: 2 | AL18: 19 | AM18: 5 | AN18: 1 | AO18: 0 | AP18: 34 | AQ18: 98 | AR18: =I18 -> 564 | AS18: 516 | AT18: 745 | AU18: 216 | AV18: 493 | AW18: 36 | AX18: =AT18-SUM(AU18:AW18) -> 0 | AY18: 956 | AZ18: 188759.73 | BB18: 61865 | BC18: =(BB18+BB17)/2 -> 62155 | BD18: 6 | BE18: =ROUND(BD18/BC18*10000,2) -> 0.97 | BF18: 34983 | BG18: =(BF18+BF17)/2 -> 35330.5 | BH18: 323 | BI18: =BH18/BG18*10000 -> 91.422425 | BJ18: 32479 | BK18: =(BJ18+BJ17)/2 -> 32271.5 | BL18: 707 | BM18: =BL18/BK18*10000 -> 219.07875 | BN18: 286017 | BO18: =(BN18+BN17)/2 -> 283708.5 | BP18: 4013 | BQ18: =BP18/BO18*10000 -> 141.448 | BR18: 168 | BS18: 24773 | BT18: 95 | BU18: 19371 | BV18: 0 | BX18: 45 | BY18: 707 | BZ18: =BR18-BT18-BX18-BV18 -> 28 | CA18: =BS18-BU18-BY18-BW18 -> 4695 | CC18: 397821 | CD18: =(CC17+CC18)/2 -> 394980.5 | CE18: 18 | CF18: 19 | CG18: 9 | CH18: 215382 | CI18: 212694 | CJ18: =CH18-CI18 -> 2688
A19: 1 | B19: 民國100年 | C19: 2011 | D19: 420052 | E19: =(D19+D18)/2 -> 417698 | F19: 6291 | G19: =O19 -> 2147 | H19: =AA19 -> 57 | I19: 396 | J19: 622 | K19: 1281 | L19: =F19-SUM(G19:K19) -> 1788 | M19: 5696 | N19: 5498 | O19: =SUM(P19:S19) -> 2147 | P19: 1 | Q19: 856 | R19: 283 | S19: 1007 | T19: =SUM(U19:X19) -> 1752 | U19: 2 | V19: 638 | W19: 184 | X19: 928 | Y19: 745 | AA19: =SUM(AB19:AH19) -> 57 | AB19: 9 | AC19: 1 | AD19: 7 | AE19: 6 | AF19: 1 | AG19: 0 | AH19: 33 | AI19: =SUM(AJ19:AP19) -> 54 | AJ19: 9 | AK19: 1 | AL19: 8 | AM19: 5 | AN19: 1 | AO19: 0 | AP19: 30 | AQ19: 96 | AR19: =I19 -> 396 | AS19: 363 | AT19: 712 | AU19: 222 | AV19: 451 | AW19: 37 | AX19: =AT19-SUM(AU19:AW19) -> 2 | AY19: 930 | AZ19: 555877.04 | BB19: 61549 | BC19: =(BB19+BB18)/2 -> 61707 | BD19: 4 | BE19: =ROUND(BD19/BC19*10000,2) -> 0.65 | BF19: 34628 | BG19: =(BF19+BF18)/2 -> 34805.5 | BH19: 480 | BI19: =BH19/BG19*10000 -> 137.90924 | BJ19: 33058 | BK19: =(BJ19+BJ18)/2 -> 32768.5 | BL19: 734 | BM19: =BL19/BK19*10000 -> 223.99561 | BN19: 290817 | BO19: =(BN19+BN18)/2 -> 288417 | BP19: 4280 | BQ19: =BP19/BO19*10000 -> 148.39625 | BR19: 146 | BS19: 88009 | BT19: 93 | BU19: 65568 | BV19: 0 | BX19: 44 | BY19: 15963 | BZ19: =BR19-BT19-BX19-BV19 -> 9 | CA19: =BS19-BU19-BY19-BW19 -> 6478 | CC19: 409105 | CD19: =(CC18+CC19)/2 -> 403463 | CE19: 34 | CF19: 36 | CG19: 13 | CH19: 236468 | CI19: 233864 | CJ19: =CH19-CI19 -> 2604
A20: 2 | B20: 民國101年 | C20: 2012 | D20: 425071 | E20: =(D20+D19)/2 -> 422561.5 | F20: 6006 | G20: =O20 -> 1865 | H20: =AA20 -> 76 | I20: 265 | J20: 560 | K20: 1466 | L20: =F20-SUM(G20:K20) -> 1774 | M20: 5711 | N20: 5525 | O20: =SUM(P20:S20) -> 1865 | P20: 1 | Q20: 789 | R20: 179 | S20: 896 | T20: =SUM(U20:X20) -> 1590 | U20: 1 | V20: 626 | W20: 160 | X20: 803 | Y20: 748 | AA20: =SUM(AB20:AH20) -> 76 | AB20: 20 | AC20: 1 | AD20: 21 | AE20: 8 | AF20: 0 | AG20: 0 | AH20: 26 | AI20: =SUM(AJ20:AP20) -> 76 | AJ20: 20 | AK20: 1 | AL20: 22 | AM20: 5 | AN20: 0 | AO20: 0 | AP20: 28 | AQ20: 125 | AR20: =I20 -> 265 | AS20: 264 | AT20: 659 | AU20: 246 | AV20: 349 | AW20: 64 | AX20: =AT20-SUM(AU20:AW20) -> 0 | AY20: 757 | AZ20: 89336.51 | BB20: 61405 | BC20: =(BB20+BB19)/2 -> 61477 | BD20: 13 | BE20: =ROUND(BD20/BC20*10000,2) -> 2.11 | BF20: 35096 | BG20: =(BF20+BF19)/2 -> 34862 | BH20: 413 | BI20: =ROUND(BH20/BG20*10000,2) -> 118.47 | BJ20: 32985 | BK20: =(BJ20+BJ19)/2 -> 33021.5 | BL20: 782 | BM20: =BL20/BK20*10000 -> 236.81541 | BN20: 295585 | BO20: =(BN20+BN19)/2 -> 293201 | BP20: 4317 | BQ20: =BP20/BO20*10000 -> 147.23688 | BR20: 128 | BS20: 25143 | BT20: 64 | BU20: 11255 | BV20: 0 | BX20: 48 | BY20: 9911 | BZ20: =BR20-BT20-BX20-BV20 -> 16 | CA20: =BS20-BU20-BY20-BW20 -> 3977 | CC20: 411113 | CD20: =(CC19+CC20)/2 -> 410109 | CE20: 30 | CF20: 31 | CG20: 18 | CH20: 250292 | CI20: 247814 | CJ20: =CH20-CI20 -> 2478
A21: 3 | B21: 民國102年 | C21: 2013 | D21: 428483 | E21: =(D21+D20)/2 -> 426777 | F21: 6131 | G21: =O21 -> 1916 | H21: =AA21 -> 76 | I21: 369 | J21: 612 | K21: 1454 | L21: =F21-SUM(G21:K21) -> 1704 | M21: 5490 | N21: 5170 | O21: =SUM(P21:S21) -> 1916 | P21: 0 | Q21: 848 | R21: 175 | S21: 893 | T21: =SUM(U21:X21) -> 1535 | U21: 2 | V21: 632 | W21: 158 | X21: 743 | Y21: 671 | AA21: =SUM(AB21:AH21) -> 76 | AB21: 19 | AC21: 0 | AD21: 14 | AE21: 9 | AF21: 0 | AG21: 0 | AH21: 34 | AI21: =SUM(AJ21:AP21) -> 76 | AJ21: 18 | AK21: 0 | AL21: 14 | AM21: 10 | AN21: 0 | AO21: 0 | AP21: 34 | AQ21: 135 | AR21: =I21 -> 369 | AS21: 265 | AT21: 644 | AU21: 213 | AV21: 362 | AW21: 69 | AX21: =AT21-SUM(AU21:AW21) -> 0 | AY21: 740 | AZ21: 12410.38 | BB21: 60743 | BC21: =(BB21+BB20)/2 -> 61074 | BD21: 9 | BE21: =ROUND(BD21/BC21*10000,2) -> 1.47 | BF21: 34599 | BG21: =(BF21+BF20)/2 -> 34847.5 | BH21: 355 | BI21: =ROUND(BH21/BG21*10000,2) -> 101.87 | BJ21: 33515 | BK21: =(BJ21+BJ20)/2 -> 33250 | BL21: 770 | BM21: =BL21/BK21*10000 -> 231.57895 | BN21: 299626 | BO21: =(BN21+BN20)/2 -> 297605.5 | BP21: 4036 | BQ21: =BP21/BO21*10000 -> 135.61577 | BR21: 147 | BS21: 20551 | BT21: 73 | BU21: 13065 | BV21: 0 | BX21: 60 | BY21: 4668 | BZ21: =BR21-BT21-BX21-BV21 -> 14 | CA21: =BS21-BU21-BY21-BW21 -> 2818 | CC21: 403547 | CD21: =(CC20+CC21)/2 -> 407330 | CE21: 31 | CF21: 31 | CG21: 13 | CH21: 244194 | CI21: 242109 | CJ21: =CH21-CI21 -> 2085
A22: 4 | B22: 民國103年 | C22: 2014 | D22: 431988 | E22: =(D22+D21)/2 -> 430235.5 | F22: 6826 | G22: =O22 -> 1763 | H22: =AA22 -> 76 | I22: 398 | J22: 564 | K22: 2391 | L22: =F22-SUM(G22:K22) -> 1634 | M22: 6512 | N22: 6284 | O22: =SUM(P22:S22) -> 1763 | P22: 2 | Q22: 856 | R22: 171 | S22: 734 | T22: =SUM(U22:X22) -> 1526 | U22: 1 | V22: 681 | W22: 126 | X22: 718 | Y22: 738 | AA22: =SUM(AB22:AH22) -> 76 | AB22: 17 | AC22: 0 | AD22: 15 | AE22: 16 | AF22: 0 | AG22: 0 | AH22: 28 | AI22: =SUM(AJ22:AP22) -> 77 | AJ22: 19 | AK22: 0 | AL22: 17 | AM22: 15 | AN22: 0 | AO22: 0 | AP22: 26 | AQ22: 112 | AR22: =I22 -> 398 | AS22: 329 | AT22: 628 | AU22: 181 | AV22: 405 | AW22: 41 | AX22: =AT22-SUM(AU22:AW22) -> 1 | AY22: 722 | AZ22: 9583.78 | BB22: 60836 | BC22: =(BB22+BB21)/2 -> 60789.5 | BD22: 13 | BE22: =ROUND(BD22/BC22*10000,2) -> 2.14 | BF22: 33831 | BG22: =(BF22+BF21)/2 -> 34215 | BH22: 318 | BI22: =ROUND(BH22/BG22*10000,2) -> 92.94 | BJ22: 33637 | BK22: =(BJ22+BJ21)/2 -> 33576 | BL22: 840 | BM22: =BL22/BK22*10000 -> 250.1787 | BN22: 303684 | BO22: =(BN22+BN21)/2 -> 301655 | BP22: 5113 | BQ22: =BP22/BO22*10000 -> 169.49827 | BR22: 141 | BS22: 33476 | BT22: 70 | BU22: 22908 | BV22: 0 | BX22: 60 | BY22: 5889 | BZ22: =BR22-BT22-BX22-BV22 -> 11 | CA22: =BS22-BU22-BY22-BW22 -> 4679 | CC22: 402265 | CD22: =(CC21+CC22)/2 -> 402906 | CE22: 36 | CF22: 37 | CG22: 9 | CH22: 240982 | CI22: 239909 | CJ22: =CH22-CI22 -> 1073
A23: 5 | B23: 民國104年 | C23: 2015 | D23: 434060 | E23: =(D23+D22)/2 -> 433024 | F23: 5897 | G23: =O23 -> 1640 | H23: =AA23 -> 49 | I23: 550 | J23: 630 | K23: 1347 | L23: =F23-SUM(G23:K23) -> 1681 | M23: 5573 | N23: 5137 | O23: =SUM(P23:S23) -> 1640 | P23: 2 | Q23: 768 | R23: 153 | S23: 717 | T23: =SUM(U23:X23) -> 1461 | U23: 3 | V23: 717 | W23: 128 | X23: 613 | Y23: 711 | AA23: =SUM(AB23:AH23) -> 49 | AB23: 15 | AC23: 0 | AD23: 6 | AE23: 7 | AF23: 0 | AG23: 0 | AH23: 21 | AI23: =SUM(AJ23:AP23) -> 51 | AJ23: 15 | AK23: 0 | AL23: 6 | AM23: 7 | AN23: 0 | AO23: 0 | AP23: 23 | AQ23: 72 | AR23: =I23 -> 550 | AS23: 460 | AT23: 725 | AU23: 167 | AV23: 477 | AW23: 77 | AX23: =AT23-SUM(AU23:AW23) -> 4 | AY23: 775 | AZ23: 399367.21 | BB23: 60750 | BC23: =(BB23+BB22)/2 -> 60793 | BD23: 3 | BE23: =ROUND(BD23/BC23*10000,2) -> 0.49 | BF23: 32592 | BG23: =(BF23+BF22)/2 -> 33211.5 | BH23: 262 | BI23: =ROUND(BH23/BG23*10000,2) -> 78.89 | BJ23: 34034 | BK23: =(BJ23+BJ22)/2 -> 33835.5 | BL23: 798 | BM23: =BL23/BK23*10000 -> 235.84697 | BN23: 306684 | BO23: =(BN23+BN22)/2 -> 305184 | BP23: 4074 | BQ23: =BP23/BO23*10000 -> 133.49324 | BR23: 88 | BS23: 377725 | BT23: 48 | BU23: 360407 | BV23: 0 | BW23: 0 | BX23: 35 | BY23: 10531 | BZ23: =BR23-BT23-BX23-BV23 -> 5 | CA23: =BS23-BU23-BY23-BW23 -> 6787 | CC23: 404520 | CD23: =(CC22+CC23)/2 -> 403392.5 | CE23: 23 | CF23: 25 | CG23: 7 | CH23: 141824 | CI23: 140940 | CJ23: =CH23-CI23 -> 884
A24: 6 | B24: 民國105年 | C24: 2016 | D24: 437337 | E24: =(D24+D23)/2 -> 435698.5 | F24: 5266 | G24: =O24 -> 1182 | H24: =AA24 -> 34 | I24: 523 | J24: 654 | K24: 1213 | L24: =F24-SUM(G24:K24) -> 1660 | M24: 5051 | N24: 4935 | O24: =SUM(P24:S24) -> 1182 | P24: 1 | Q24: 656 | R24: 117 | S24: 408 | T24: =SUM(U24:X24) -> 1064 | U24: 1 | V24: 602 | W24: 71 | X24: 390 | Y24: 620 | AA24: =SUM(AB24:AH24) -> 34 | AB24: 4 | AC24: 0 | AD24: 3 | AE24: 9 | AF24: 1 | AG24: 0 | AH24: 17 | AI24: =SUM(AJ24:AP24) -> 34 | AJ24: 5 | AK24: 0 | AL24: 2 | AM24: 9 | AN24: 1 | AO24: 0 | AP24: 17 | AQ24: 54 | AR24: =I24 -> 523 | AS24: 470 | AT24: 740 | AU24: 199 | AV24: 481 | AW24: 47 | AX24: =AT24-SUM(AU24:AW24) -> 13 | AY24: 785 | AZ24: 18659.46 | BB24: 60828 | BC24: =(BB24+BB23)/2 -> 60789 | BD24: 9 | BE24: =ROUND(BD24/BC24*10000,2) -> 1.48 | BF24: 32405 | BG24: =(BF24+BF23)/2 -> 32498.5 | BH24: 236 | BI24: =ROUND(BH24/BG24*10000,2) -> 72.62 | BJ24: 33437 | BK24: =(BJ24+BJ23)/2 -> 33735.5 | BL24: 753 | BM24: =BL24/BK24*10000 -> 223.20701 | BN24: 310667 | BO24: =(BN24+BN23)/2 -> 308675.5 | BP24: 3937 | BQ24: =BP24/BO24*10000 -> 127.54495 | BR24: 73 | BS24: 488169 | BT24: 48 | BU24: 485162 | BV24: 0 | BW24: 0 | BX24: 20 | BY24: 129 | BZ24: =BR24-BT24-BX24-BV24 -> 5 | CA24: =BS24-BU24-BY24-BW24 -> 2878 | CC24: 408270 | CD24: =(CC23+CC24)/2 -> 406395 | CE24: 23 | CF24: 23 | CG24: 6 | CH24: 180853 | CI24: 180254 | CJ24: =CH24-CI24 -> 599
A25: 7 | B25: 民國106年 | C25: 2017 | D25: 441132 | E25: =(D25+D24)/2 -> 439234.5 | F25: 4424 | G25: =O25 -> 1000 | H25: =AA25 -> 8 | I25: 445 | J25: 714 | K25: 803 | L25: =F25-SUM(G25:K25) -> 1454 | M25: 4371 | N25: 4345 | O25: =SUM(P25:S25) -> 1000 | P25: 0 | Q25: 504 | R25: 87 | S25: 409 | T25: =SUM(U25:X25) -> 907 | U25: 1 | V25: 445 | W25: 52 | X25: 409 | Y25: 468 | AA25: =SUM(AB25:AH25) -> 8 | AB25: 4 | AC25: 0 | AD25: 1 | AE25: 3 | AF25: 0 | AG25: 0 | AH25: 0 | AI25: =SUM(AJ25:AP25) -> 9 | AJ25: 4 | AK25: 0 | AL25: 2 | AM25: 3 | AN25: 0 | AO25: 0 | AP25: 0 | AQ25: 20 | AR25: =I25 -> 445 | AS25: 468 | AT25: 854 | AU25: 218 | AV25: 563 | AW25: 72 | AX25: =AT25-SUM(AU25:AW25) -> 1 | AY25: 978 | AZ25: 95721.33 | BB25: 61439 | BC25: =(BB25+BB24)/2 -> 61133.5 | BD25: 7 | BE25: =ROUND(BD25/BC25*10000,2) -> 1.15 | BF25: 31437 | BG25: =(BF25+BF24)/2 -> 31921 | BH25: 226 | BI25: =ROUND(BH25/BG25*10000,2) -> 70.8 | BJ25: 33096 | BK25: =(BJ25+BJ24)/2 -> 33266.5 | BL25: 686 | BM25: =ROUND(BL25/BK25*10000,2) -> 206.21 | BN25: 315160 | BO25: =(BN25+BN24)/2 -> 312913.5 | BP25: 3426 | BQ25: =BP25/BO25*10000 -> 109.48713 | BR25: 26 | BS25: 3620879 | BT25: 16 | BU25: 3597335 | BV25: 1 | BW25: 18190 | BX25: 7 | BY25: 644 | BZ25: =BR25-BT25-BX25-BV25 -> 2 | CA25: =BS25-BU25-BY25-BW25 -> 4710 | CC25: 414280 | CD25: =(CC24+CC25)/2 -> 411275 | CE25: 25 | CF25: 25 | CG25: 8 | CH25: 192645 | CI25: 192161 | CJ25: =CH25-CI25 -> 484
A26: 8 | B26: 民國107年 | C26: 2018 | D26: 445635 | E26: =(D26+D25)/2 -> 443383.5 | F26: 4413 | G26: =O26 -> 967 | H26: =AA26 -> 4 | I26: 470 | J26: 575 | K26: 833 | L26: =F26-SUM(G26:K26) -> 1564 | M26: 4252 | N26: 4778 | O26: =SUM(P26:S26) -> 967 | P26: 1 | Q26: 564 | R26: 55 | S26: 347 | T26: =SUM(U26:X26) -> 858 | U26: 1 | V26: 540 | W26: 40 | X26: 277 | Y26: 558 | AA26: =SUM(AB26:AH26) -> 4 | AB26: 3 | AC26: 0 | AD26: 1 | AE26: 0 | AF26: 0 | AG26: 0 | AH26: 0 | AI26: =SUM(AJ26:AP26) -> 5 | AJ26: 3 | AK26: 0 | AL26: 1 | AM26: 0 | AN26: 0 | AO26: 0 | AP26: 1 | AQ26: 8 | AR26: =I26 -> 470 | AS26: 491 | AT26: 620 | AU26: 219 | AV26: 362 | AW26: 38 | AX26: =AT26-SUM(AU26:AW26) -> 1 | AY26: 767 | AZ26: 1649980.1 | BB26: 62172 | BC26: =(BB26+BB25)/2 -> 61805.5 | BD26: 5 | BE26: =ROUND(BD26/BC26*10000,2) -> 0.81 | BF26: 30367 | BG26: =(BF26+BF25)/2 -> 30902 | BH26: 220 | BI26: =ROUND(BH26/BG26*10000,2) -> 71.19 | BJ26: 33375 | BK26: =(BJ26+BJ25)/2 -> 33235.5 | BL26: 779 | BM26: =ROUND(BL26/BK26*10000,2) -> 234.39 | BN26: 319721 | BO26: =(BN26+BN25)/2 -> 317440.5 | BP26: 3774 | BQ26: =BP26/BO26*10000 -> 118.88842 | BR26: 29 | BS26: 544543 | BT26: 15 | BU26: 492429 | BV26: 10 | BW26: 46114 | BX26: 4 | BY26: 6000 | BZ26: =BR26-BT26-BX26-BV26 -> 0 | CA26: =BS26-BU26-BY26-BW26 -> 0 | CC26: 420078 | CD26: =(CC25+CC26)/2 -> 417179 | CE26: 22 | CF26: 22 | CG26: 11 | CH26: 177454 | CI26: 177008 | CJ26: =CH26-CI26 -> 446
A27: 9 | B27: 民國108年 | C27: 2019 | D27: 448803 | E27: =(D27+D26)/2 -> 447219 | F27: 4373 | G27: =O27 -> 812 | H27: =AA27 -> 9 | I27: 369 | J27: 580 | K27: 1003 | L27: =F27-SUM(G27:K27) -> 1600 | M27: 4521 | N27: 4961 | O27: =SUM(P27:S27) -> 812 | P27: 0 | Q27: 545 | R27: 27 | S27: 240 | T27: =SUM(U27:X27) -> 845 | U27: 0 | V27: 537 | W27: 31 | X27: 277 | Y27: 538 | AA27: =SUM(AB27:AH27) -> 9 | AB27: 6 | AC27: 0 | AD27: 1 | AE27: 1 | AF27: 1 | AG27: 0 | AH27: 0 | AI27: =SUM(AJ27:AP27) -> 9 | AJ27: 6 | AK27: 0 | AL27: 1 | AM27: 1 | AN27: 1 | AO27: 0 | AP27: 0 | AQ27: 9 | AR27: =I27 -> 369 | AS27: 479 | AT27: 652 | AU27: 235 | AV27: 389 | AW27: 25 | AX27: =AT27-SUM(AU27:AW27) -> 3 | AY27: 876 | AZ27: 27283.34 | BB27: 61783 | BC27: =(BB27+BB26)/2 -> 61977.5 | BD27: 5 | BE27: =ROUND(BD27/BC27*10000,2) -> 0.81 | BF27: 29872 | BG27: =(BF27+BF26)/2 -> 30119.5 | BH27: 163 | BI27: =ROUND(BH27/BG27*10000,2) -> 54.12 | BJ27: 32921 | BK27: =(BJ27+BJ26)/2 -> 33148 | BL27: 647 | BM27: =ROUND(BL27/BK27*10000,2) -> 195.19 | BN27: 324227 | BO27: =(BN27+BN26)/2 -> 321974 | BP27: 4146 | BQ27: =BP27/BO27*10000 -> 128.76816 | BR27: 102 | BS27: 79034 | BT27: 68 | BU27: 36457 | BV27: 27 | BW27: 25980 | BX27: 4 | BY27: 16571 | BZ27: =BR27-BT27-BX27-BV27 -> 3 | CA27: =BS27-BU27-BY27-BW27 -> 26 | CC27: 426625 | CD27: =(CC26+CC27)/2 -> 423351.5 | CE27: 25 | CF27: 25 | CG27: 6 | CH27: 215331 | CI27: 214816 | CJ27: =CH27-CI27 -> 515
A28: 10 | B28: 民國109年 | C28: 2020 | D28: 451412 | E28: =(D28+D27)/2 -> 450107.5 | F28: 4105 | G28: =O28 -> 743 | H28: =AA28 -> 10 | I28: 336 | J28: 449 | K28: 949 | L28: =F28-SUM(G28:K28) -> 1618 | M28: 4143 | N28: 4714 | O28: =SUM(P28:S28) -> 743 | P28: 0 | Q28: 550 | R28: 30 | S28: 163 | T28: =SUM(U28:X28) -> 753 | U28: 0 | V28: 541 | W28: 23 | X28: 189 | Y28: 581 | AA28: =SUM(AB28:AH28) -> 10 | AB28: 4 | AC28: 0 | AD28: 3 | AE28: 2 | AF28: 0 | AG28: 0 | AH28: 1 | AI28: =SUM(AJ28:AP28) -> 10 | AJ28: 4 | AK28: 0 | AL28: 3 | AM28: 2 | AN28: 0 | AO28: 0 | AP28: 1 | AQ28: 19 | AR28: =I28 -> 336 | AS28: 354 | AT28: 558 | AU28: 112 | AV28: 419 | AW28: 26 | AX28: =AT28-SUM(AU28:AW28) -> 1 | AY28: 718 | AZ28: 14960.17 | BB28: 61074 | BC28: =(BB28+BB27)/2 -> 61428.5 | BD28: 8 | BE28: =ROUND(BD28/BC28*10000,2) -> 1.3 | BF28: 29572 | BG28: =(BF28+BF27)/2 -> 29722 | BH28: 201 | BI28: =ROUND(BH28/BG28*10000,2) -> 67.63 | BJ28: 32159 | BK28: =(BJ28+BJ27)/2 -> 32540 | BL28: 659 | BM28: =ROUND(BL28/BK28*10000,2) -> 202.52 | BN28: 328607 | BO28: =(BN28+BN27)/2 -> 326417 | BP28: 3846 | BQ28: =BP28/BO28*10000 -> 117.82475 | BR28: 120 | BS28: 1397777 | BT28: 53 | BU28: 9953 | BV28: 52 | BW28: 1382645 | BX28: 6 | BY28: 0 | BZ28: =BR28-BT28-BX28-BV28 -> 9 | CA28: =BS28-BU28-BY28-BW28 -> 5179 | CC28: 433284 | CD28: =(CC27+CC28)/2 -> 429954.5 | CE28: 34 | CF28: 34 | CG28: 19 | CH28: 282192 | CI28: 280818 | CJ28: =CH28-CI28 -> 1374
AR29: =I29 -> 0
B30: 步驟1:先至重要指標表之第一年前1行插入1行,再選擇性copy貼上第一年之值 ,再至本工作表作業
B31: 步驟2:於1.前1行插入,再將1~10往上copy
A32: ok106.12.20 | B32: 步驟3:第1年之各年中公式須調整欄位-人口,青少年人口,年中車輛
B33: 步驟4:於10輸入新1年資料
B34: 步驟5:序號往下調整

Sheet 指標
B2: 新竹市重要警政統計指標 | L2: Statistical Indicators of Police Administration in Hsinchu City | R2: 新竹市重要警政統計指標 | AB2: Statistical Indicators of Police Administration in Hsinchu City | AJ2: 新竹市重要警政統計指標 | AU2: Statistical Indicators of Police Administration in Hsinchu City | BG2: 新竹市重要警政統計指標 | BP2: Statistical Indicators of Police Administration in Hsinchu City | BY2: 新竹市重要警政統計指標 | CJ2: Statistical Indicators of Police Administration in Hsinchu City | CU2: 新竹市重要警政統計指標
CU3: Statistical Indicators of Police Administration in Hsinchu City
B4: 年 別 Year | D4: 全 般 刑 案 Crime Volume | L4: 全 般 刑 案 Crime Volume | R4: 年 別 Year | T4: 竊 盜 Larceny | AB4: 竊 盜 Larceny | AJ4: 年 別 Year | AL4: 暴 力 犯 罪 Violent Crime | AU4: 暴 力 犯 罪 Violent Crime | BE4: 年 別 Year | BG4: 暴 力 犯 罪 Violent Crime | BK4: 詐 欺 Fraud | BP4: 毒 品 Drugs | BY4: 年 別 Year | CA4: 嫌疑犯年齡層別 Offenders Age level | CJ4: 經 濟 案 件 Economic Frauds | CU4: 年 別 Year | CW4: 道 路 交 通 Traffic
D5: 發生數 | L5: 犯罪率 | M5: 破獲數 | N5: 破獲率 | O5: 嫌疑犯 | P5: 犯罪人口率 | T5: 發生數 | Y5: 犯罪率 | Z5: 破獲數 | AB5: 破獲率 | AG5: 嫌疑犯 | AH5: 犯罪人口率 | AL5: 發生數 | AU5: 犯罪率 | AV5: 破獲數 | AW5: 破獲率 | BG5: 破獲率 | BI5: 嫌疑犯 | BJ5: 犯罪人口率 | BK5: 發生數 | BL5: 犯罪率 | BM5: 破獲數 | BN5: 破獲率 | BP5: 破獲數 | BU5: 嫌疑犯 | BV5: 犯罪人口率 | BW5: 查獲數量 | CA5: 兒童嫌疑犯 Child Offenders | CC5: 少年嫌疑犯 Juvenile Offenders | CE5: 青年嫌疑犯 Adolescent Offenders | CG5: 成年嫌疑犯 Adult Offenders | CJ5: 合計 Total | CL5: 違反金融 Against Finance Acts | CN5: 違反洗錢防制法 Violation of Money Laundering Control Act | CP5: 侵害智慧財產權 Infringement of Intellectual Property Rights | CR5: 其他 Others | CW5: 道路交通事故 （A1類） Traffic Accidents | DB5: 舉發違反道路交通管理事件 Incidents of Traffic Violations
D6: （件） | E6: 竊盜 | F6: 暴力犯罪 | G6: 詐欺 | H6: 毒品 | I6: 公共危險 | J6: 其他 | L6: (件/萬人) | M6: （件） | N6: （%） | O6: （人） | P6: (人/萬人) | T6: （件） | U6: 重大竊盜 | V6: 普通竊盜 | W6: 汽車竊盜 | X6: 機車竊盜 | Y6: (件/萬人) | Z6: （件） | AB6: （%） | AC6: 重大竊盜 | AD6: 普通竊盜 | AE6: 汽車竊盜 | AF6: 機車竊盜 | AG6: （人） | AH6: (人/萬人) | AL6: （件） | AM6: 故意殺人 | AN6: 擄人勒贖 | AO6: 強盜 | AP6: 搶奪 | AQ6: 重傷害 | AR6: 重大 恐嚇取財 | AS6: 強制性交 | AU6: (件/萬人) | AV6: （件） | AW6: （%） | AX6: 故意殺人 | AY6: 擄人勒贖 | AZ6: 強盜 | BA6: 搶奪 | BB6: 重傷害 | BG6: 重大 恐嚇取財 | BH6: 強制性交 | BI6: （人） | BJ6: (人/萬人) | BK6: （件） | BL6: (件/萬人) | BM6: （件） | BN6: （%） | BP6: （件） | BQ6: 第一級毒品 | BR6: 第二級毒品 | BS6: 第三級毒品 | BT6: 第四級毒品 及其他 | BU6: （人） | BV6: (人/萬人) | BW6: (公克) | CA6: 人數 | CB6: 兒童 犯罪人口率 | CC6: 人數 | CD6: 少年 犯罪人口率 | CE6: 人數 | CF6: 青年 犯罪人口率 | CG6: 人數 | CH6: 成年 犯罪人口率 | CJ6: 件數 | CK6: 金額 | CL6: 件數 | CM6: 金額 | CN6: 件數 | CO6: 金額 | CP6: 件數 | CQ6: 金額 | CR6: 件數 | CS6: 金額 | CW6: 件數 | CX6: 死亡 | CY6: 受傷 | CZ6: 肇事率 | DA6: 死傷率 | DB6: 件數 | DC6: 移公路 監理機關 | DD6: 警察機關及其他
E7: （%） | F7: （%） | G7: （%） | H7: （%） | I7: （%） | J7: （%） | U7: （%） | V7: （%） | W7: （%） | X7: （%） | AC7: （%） | AD7: （%） | AE7: （%） | AF7: （%） | AM7: （%） | AN7: （%） | AO7: （%） | AP7: （%） | AQ7: （%） | AR7: （%） | AS7: （%） | AX7: （%） | AY7: （%） | AZ7: （%） | BA7: （%） | BB7: （%） | BG7: （%） | BH7: （%） | BQ7: （%） | BR7: （%） | BS7: （%） | BT7: （%） | CA7: （人） | CB7: (人/萬人) | CC7: （人） | CD7: (人/萬人) | CE7: （人） | CF7: (人/萬人) | CG7: （人） | CH7: (人/萬人) | CJ7: （件） | CK7: （千元） | CL7: （%） | CM7: （%） | CN7: （%） | CO7: （%） | CP7: （%） | CQ7: （%） | CR7: （%） | CS7: （%） | CW7: （件） | CX7: （人） | CY7: （人） | CZ7: （件/10萬輛車） | DA7: （人/10萬人口） | DB7: （件） | DC7: （%） | DD7: （%）
D8: Offense Known to the Police | E8: Larceny | F8: Violent Crime | G8: Fraud | H8: Drugs | I8: Against Public Safety | J8: Others | L8: Offense Rate Per 10,000 Population | M8: Offense Cleared by the Police | N8: Clearance Rate | O8: Offenders | P8: Offender Rate Per 10,000 Population | T8: Offense Known to the Police | U8: Serious Larceny | V8: General Larceny | W8: Motor Vehicle Theft | X8: Motorcycle Theft | Y8: Offense Rate Per 10,000 Population | Z8: Offense Cleared by the Police | AB8: Clearance Rate | AC8: Serious Larceny | AD8: General Larceny | AE8: Motor Vehicle Theft | AF8: Motorcycle Theft | AG8: Offenders | AH8: Offender Rate Per 10,000 Population | AL8: Offense Known to the Police | AM8: Willfulness | AN8: Kidna- pping for Ransom | AO8: Robbery | AP8: Forceful Taking | AQ8: Serious Aggravated Assault | AR8: Serious Intimida- tion and Extortion | AS8: Forcible Rape | AU8: Offense Rate Per 10,000 Population | AV8: Offense Cleared by the Police | AW8: Clearance Rate | AX8: Willfulness | AY8: Kidna- pping for Ransom | AZ8: Robbery | BA8: Forceful Taking | BB8: Serious Aggravated Assault | BG8: Serious Intimida- tion and Extortion | BH8: Forcible Rape | BI8: Offenders | BJ8: Offender Rate Per 10,000 Population | BK8: Offense Known to the Police | BL8: Offense Rate Per 10,000 Population | BM8: Offense Cleared by the Police | BN8: Clearance Rate | BP8: Offense Cleared by the Police | BQ8: First Grade Drugs | BR8: Second Grade Drugs | BS8: Third Grade Drugs | BT8: Fourth Grade Drugs and Others | BU8: Offenders | BV8: Offender Rate Per 10,000 Population | BW8: Quantities | CA8: Person | CB8: Child Offender Rate Per 10,000 Population | CC8: Person | CD8: Juvenile Offender Rate Per 10,000 Population | CE8: Person | CF8: Adolescent Offender Rate Per 10,000 Population | CG8: Person | CH8: Adult Offender Rate Per 10,000 Population | CJ8: Cases | CK8: Amount NT$1,000 | CL8: Cases | CM8: Amount NT$1,000 | CN8: Cases | CO8: Amount NT$1,000 | CP8: Cases | CQ8: Amount NT$1,000 | CR8: Cases | CS8: Amount NT$1,000 | CW8: Cases | CX8: Deaths | CY8: Injuries | CZ8: Rate Per 10,000 Motor Vehicles | DA8: Death and Injury Rate Per 10,000 Population | DB8: Cases | DC8: Forwarded to motor vehicle Office | DD8: Police Department and Others
B9: 民國89年 | C9: 2000 | D9: 12177 | E9: 83.66 | F9: 1.95 | G9: 0 | H9: 4.98 | I9: 2.15 | J9: =100-SUM(E9:I9) -> 7.26 | L9: 333.4351 | M9: 5640 | N9: 46.316827 | O9: 2973 | P9: 81.407782 | R9: 民國89年 | S9: 2000 | T9: 10187 | U9: 0.07 | V9: 13.17 | W9: 12.77 | X9: 73.99 | Y9: 278.94419 | Z9: 4048 | AA9: #REF! | AB9: 39.73692 | AC9: 57.142857 | AD9: 31.594635 | AE9: 47.425058 | AF9: 39.843439 | AG9: 826 | AH9: 22.617837 | AJ9: 民國89年 | AK9: 2000 | AL9: 238 | AM9: 12.61 | AN9: 0 | AO9: 23.11 | AP9: 52.94 | AQ9: 0.42 | AR9: 0 | AS9: 10.92 | AU9: 6.5170038 | AV9: 182 | AW9: 76.470588 | AX9: 96.666667 | AY9: 0 | AZ9: 101.81818 | BA9: 59.52381 | BB9: 100 | BE9: 民國89年 | BF9: 2000 | BG9: 0 | BH9: 80.769231 | BI9: 189 | BJ9: 5.1752677 | BK9: 0 | BL9: 0 | BM9: 0 | BN9: 0 | BP9: 572 | BQ9: 17.31 | BR9: 81.12 | BS9: 0.17 | BT9: 1.4 | BU9: 824 | BV9: 22.563072 | BW9: 9580.79 | BY9: 民國89年 | BZ9: 2000 | CA9: 8 | CB9: 1.1871814 | CC9: 358 | CD9: 106.63013 | CE9: 655 | CF9: 176.19368 | CG9: 1952 | CH9: 85.967331 | CJ9: 85 | CK9: 48796 | CL9: 34.12 | CM9: 8.94 | CP9: 57.65 | CQ9: 90.83 | CR9: 8.23 | CS9: 0.23 | CU9: 民國89年 | CV9: 2000 | CW9: 51 | CX9: 52 | CY9: 18 | CZ9: 16.748631 | DA9: 19.167658 | DB9: 0 | DC9: 0 | DD9: 0
B10: 民國90年 | C10: 2001 | D10: 12300 | E10: 78.94 | F10: 2.25 | G10: 0 | H10: 3.58 | I10: 3.6 | J10: =100-SUM(E10:I10) -> 11.63 | L10: 331.65484 | M10: 6730 | N10: 54.715447 | O10: 3368 | P10: 90.814105 | R10: 民國90年 | S10: 2001 | T10: 9710 | U10: 0.05 | V10: 19.22 | W10: 14.81 | X10: 65.92 | Y10: 261.81857 | Z10: 4819 | AA10: #REF! | AB10: 49.629248 | AC10: 80 | AD10: 24.330118 | AE10: 52.294854 | AF10: 56.381815 | AG10: 811 | AH10: 21.867648 | AJ10: 民國90年 | AK10: 2001 | AL10: 277 | AM10: 12.64 | AN10: 1.44 | AO10: 28.52 | AP10: 37.91 | AQ10: 0.36 | AR10: 2.53 | AS10: 16.6 | AU10: 7.4689748 | AV10: 228 | AW10: 82.310469 | AX10: 100 | AY10: 50 | AZ10: 84.810127 | BA10: 69.52381 | BB10: 100 | BE10: 民國90年 | BF10: 2001 | BG10: 57.142857 | BH10: 100 | BI10: 269 | BJ10: 7.2532643 | BK10: 0 | BL10: 0 | BM10: 0 | BN10: 0 | BP10: 427 | BQ10: 36.77 | BR10: 58.08 | BS10: 0 | BT10: 5.15 | BU10: 609 | BV10: 16.420959 | BW10: 5750.86 | BY10: 民國90年 | BZ10: 2001 | CA10: 12 | CB10: 1.77 | CC10: 395 | CD10: 119.42555 | CE10: 640 | CF10: 171.81208 | CG10: 2321 | CH10: 99.766166 | CJ10: 51 | CK10: 9827 | CL10: 41.18 | CM10: 26.72 | CP10: 58.82 | CQ10: 73.28 | CR10: 0 | CS10: 0 | CU10: 民國90年 | CV10: 2001 | CW10: 50 | CX10: 50 | CY10: 17 | CZ10: 15.815178 | DA10: 18.065751 | DB10: 0 | DC10: 0 | DD10: 0
B11: 民國91年 | C11: 2002 | D11: 12543 | E11: 77.72 | F11: 2.75 | G11: 0 | H11: 4.21 | I11: 3.33 | J11: =100-SUM(E11:I11) -> 11.99 | K11: 333.54918 | L11: 333.54918 | M11: 8010 | N11: 63.86032 | O11: 3904 | P11: 103.81695 | R11: 民國91年 | S11: 2002 | T11: 9749 | U11: 0.04 | V11: 18.38 | W11: 12.7 | X11: 68.88 | Y11: 259.24985 | Z11: 5904 | AA11: #REF! | AB11: 60.560057 | AC11: 150 | AD11: 40.457589 | AE11: 69.547658 | AF11: 64.214445 | AG11: 919 | AH11: 24.438467 | AJ11: 民國91年 | AK11: 2002 | AL11: 345 | AM11: 6.96 | AN11: 0.87 | AO11: 28.99 | AP11: 45.8 | AQ11: 0.29 | AR11: 0.29 | AS11: 16.8 | AU11: 9.1743973 | AV11: 294 | AW11: 85.217391 | AX11: 87.5 | AY11: 100 | AZ11: 94 | BA11: 63.924051 | BB11: 100 | BE11: 民國91年 | BF11: 2002 | BG11: 100 | BH11: 125.86207 | BI11: 308 | BJ11: 8.1904764 | BK11: 0 | BL11: 0 | BM11: 0 | BN11: 0 | BP11: 581 | BQ11: 52.67 | BR11: 45.44 | BS11: 0 | BT11: 1.89 | BU11: 807 | BV11: 21.460112 | BW11: 4308.31 | BY11: 民國91年 | BZ11: 2002 | CA11: 9 | CB11: 1.32 | CC11: 319 | CD11: 97.162786 | CE11: 686 | CF11: 184.79857 | CG11: 2890 | CH11: 121.43699 | CJ11: 73 | CK11: 20346 | CL11: 27.4 | CM11: 17.05 | CP11: 60.27 | CQ11: 70.7 | CR11: 12.33 | CS11: 12.25 | CU11: 民國91年 | CV11: 2002 | CW11: 45 | CX11: 45 | CY11: 18 | CZ11: 13.990536 | DA11: 16.753247 | DB11: 361918 | DC11: 96.724949 | DD11: 3.2750513
B12: 民國92年 | C12: 2003 | D12: 11870 | E12: 80.15 | F12: 1.71 | G12: 0 | H12: 2.37 | I12: 3 | J12: 12.77 | L12: 311.67372 | M12: 7089 | N12: 59.721988 | O12: 2502 | P12: 65.695673 | R12: 民國92年 | S12: 2003 | T12: 9514 | U12: 0.02 | V12: 16.75 | W12: 14.11 | X12: 69.12 | Y12: 249.8116 | Z12: 5380 | AA12: #REF! | AB12: 56.548245 | AC12: 0 | AD12: 30.301129 | AE12: 61.922504 | AF12: 61.8309 | AG12: 595 | AH12: 15.623072 | AJ12: 民國92年 | AK12: 2003 | AL12: 203 | AM12: 9.36 | AN12: 1.48 | AO12: 31.03 | AP12: 29.06 | AQ12: 1.48 | AR12: 0 | AS12: 27.59 | AU12: 5.3302245 | AV12: 158 | AW12: 77.832512 | AX12: 89.473684 | AY12: 66.666667 | AZ12: 80.952381 | BA12: 57.627119 | BB12: 100 | BE12: 民國92年 | BF12: 2003 | BG12: 0 | BH12: 91.071429 | BI12: 183 | BJ12: 4.8050792 | BK12: 0 | BL12: 0 | BM12: 0 | BN12: 0 | BP12: 345 | BQ12: 53.62 | BR12: 37.97 | BS12: 0.29 | BT12: 8.12 | BU12: 480 | BV12: 12.603486 | BW12: 9262.2 | BY12: 民國92年 | BZ12: 2003 | CA12: 7 | CB12: 1.03 | CC12: 264 | CD12: 80.023037 | CE12: 430 | CF12: 118.12213 | CG12: 1801 | CH12: 73.911134 | CJ12: 106 | CK12: 53724 | CL12: 24.53 | CM12: 55.46 | CP12: 67.92 | CQ12: 23.19 | CR12: 7.55 | CS12: 21.35 | CU12: 民國92年 | CV12: 2003 | CW12: 47 | CX12: 47 | CY12: 22 | CZ12: 14.364852 | DA12: 18.117512 | DB12: 303890 | DC12: 98.162164 | DD12: 1.8378361
B13: 民國93年 | C13: 2004 | D13: 12309 | E13: 70.85 | F13: 1.47 | G13: 0 | H13: 4.4 | I13: 4.36 | J13: 18.92 | L13: 319.77783 | M13: 7770 | N13: 63.124543 | O13: 3435 | P13: 89.238511 | R13: 民國93年 | S13: 2004 | T13: 8721 | U13: 0.06 | V13: 18.9 | W13: 16.57 | X13: 64.47 | Y13: 226.5645 | Z13: 4772 | AA13: #REF! | AB13: 54.718496 | AC13: 80 | AD13: 33.555825 | AE13: 57.99308 | AF13: 60.056909 | AG13: 682 | AH13: 17.717806 | AJ13: 民國93年 | AK13: 2004 | AL13: 181 | AM13: 13.26 | AN13: 1.1 | AO13: 24.31 | AP13: 34.25 | AQ13: 1.1 | AR13: 0.55 | AS13: 25.43 | AU13: 4.702233 | AV13: 141 | AW13: 77.900552 | AX13: 95.833333 | AY13: 50 | AZ13: 88.636364 | BA13: 51.612903 | BB13: 100 | BE13: 民國93年 | BF13: 2004 | BG13: 100 | BH13: 93.478261 | BI13: 172 | BJ13: 4.4684203 | BK13: 0 | BL13: 0 | BM13: 0 | BN13: 0 | BP13: 614 | BQ13: 45.77 | BR13: 31.43 | BS13: 2.28 | BT13: 20.52 | BU13: 774 | BV13: 20.107892 | BW13: 4556.94 | BY13: 民國93年 | BZ13: 2004 | CA13: 4 | CB13: 0.6 | CC13: 316 | CD13: 94.572553 | CE13: 468 | CF13: 133.02257 | CG13: 2647 | CH13: 106.21692 | CJ13: 126 | CK13: 11590 | CL13: 33.33 | CM13: 38.55 | CP13: 59.52 | CQ13: 59.03 | CR13: 7.15 | CS13: 2.42 | CU13: 民國93年 | CV13: 2004 | CW13: 36 | CX13: 36 | CY13: 11 | CZ13: 10.649281 | DA13: 12.210218 | DB13: 308749 | DC13: 98.45538 | DD13: 1.5446204
B14: 民國 94年 | C14: 2005 | D14: 11065 | E14: 60.47 | F14: 1.87 | G14: 10.49 | H14: 7.15 | I14: 5.87 | J14: 14.15 | L14: 284.57825 | M14: 7296 | N14: 65.937641 | O14: 4051 | P14: 104.18676 | R14: 民國 94年 | S14: 2005 | T14: 6691 | U14: 0.09 | V14: 35.09 | W14: 15.83 | X14: 48.99 | Y14: 172.08433 | Z14: 4100 | AA14: #REF! | AB14: 61.276341 | AC14: 83.333333 | AD14: 34.965928 | AE14: 61.661945 | AF14: 79.957291 | AG14: 819 | AH14: 21.063677 | AJ14: 民國 94年 | AK14: 2005 | AL14: 207 | AM14: 8.21 | AN14: 1.45 | AO14: 28.02 | AP14: 40.1 | AQ14: 0.48 | AR14: 0 | AS14: 21.74 | AU14: 5.3237865 | AV14: 161 | AW14: 77.777778 | AX14: 94.117647 | AY14: 133.33333 | AZ14: 98.275862 | BA14: 45.783133 | BB14: 100 | BE14: 民國 94年 | BF14: 2005 | BG14: 0 | BH14: 100 | BI14: 173 | BJ14: 4.4493482 | BK14: 1161 | BL14: 29.859498 | BM14: 569 | BN14: 49.009475 | BP14: 1002 | BQ14: 44.91 | BR14: 32.53 | BS14: 1.1 | BT14: 21.46 | BU14: 1112 | BV14: 28.599278 | BW14: 4663.53 | BY14: 民國 94年 | BZ14: 2005 | CA14: 13 | CB14: 1.96 | CC14: 247 | CD14: 72.573418 | CE14: 465 | CF14: 137.75533 | CG14: 3326 | CH14: 130.52428 | CJ14: 134 | CK14: 18514 | CL14: 36.57 | CM14: 60.16 | CP14: 55.97 | CQ14: 38.74 | CR14: 7.46 | CS14: 1.1 | CU14: 民國 94年 | CV14: 2005 | CW14: 42 | CX14: 42 | CY14: 21 | CZ14: 11.975399 | DA14: 16.202829 | DB14: 270910 | DC14: 98.726145 | DD14: 1.2738548
B15: 民國 95年 | C15: 2006 | D15: 9676 | E15: 56.95 | F15: 2.08 | G15: 9.5 | H15: 5.98 | I15: 7.28 | J15: 18.21 | L15: 246.38137 | M15: 6613 | N15: 68.344357 | O15: 4231 | P15: 107.73456 | R15: 民國 95年 | S15: 2006 | T15: 5510 | U15: 0.02 | V15: 41.34 | W15: 10.6 | X15: 48.04 | Y15: 140.30192 | Z15: 3322 | AA15: #REF! | AB15: 60.290381 | AC15: 100 | AD15: 26.865672 | AE15: 60.10274 | AF15: 89.08198 | AG15: 725 | AH15: 18.460778 | AJ15: 民國 95年 | AK15: 2006 | AL15: 201 | AM15: 9.95 | AN15: 1 | AO15: 24.38 | AP15: 37.31 | AQ15: 1 | AR15: 0 | AS15: 26.36 | AU15: 5.1180917 | AV15: 148 | AW15: 73.631841 | AX15: 95 | AY15: 100 | AZ15: 77.55102 | BA15: 41.333333 | BB15: 0 | BE15: 民國 95年 | BF15: 2006 | BG15: 0 | BH15: 109.43396 | BI15: 198 | BJ15: 5.0417023 | BK15: 919 | BL15: 23.400628 | BM15: 736 | BN15: 80.087051 | BP15: 862 | BQ15: 61.83 | BR15: 37.59 | BS15: 0.35 | BT15: 0.23 | BU15: 960 | BV15: 24.444617 | BW15: 5571.05 | BY15: 民國 95年 | BZ15: 2006 | CA15: 5 | CB15: 0.77 | CC15: 397 | CD15: 115.84645 | CE15: 589 | CF15: 179.78694 | CG15: 3240 | CH15: 124.38957 | CJ15: 134 | CK15: 50543 | CL15: 51.49 | CM15: 62.1 | CP15: 36.57 | CQ15: 20.5 | CR15: 11.94 | CS15: 17.4 | CU15: 民國 95年 | CV15: 2006 | CW15: 53 | CX15: 55 | CY15: 13 | CZ15: 14.713823 | DA15: 17.314937 | DB15: 258356 | DC15: 98.707984 | DD15: 1.2920157
B16: 民國 96年 | C16: 2007 | D16: 9932 | E16: 55.85 | F16: 1.4 | G16: 10.6 | H16: 5.12 | I16: 9.07 | J16: 17.96 | L16: 250.24188 | M16: 7185 | N16: 72.341925 | O16: 4499 | P16: 113.35463 | R16: 民國 96年 | S16: 2007 | T16: 5547 | U16: 0.07 | V16: 33.55 | W16: 14.39 | X16: 51.99 | Y16: 139.75953 | Z16: 3595 | AA16: #REF! | AB16: 64.809807 | AC16: 50 | AD16: 36.754433 | AE16: 65.914787 | AF16: 82.628294 | AG16: 694 | AH16: 17.485689 | AJ16: 民國 96年 | AK16: 2007 | AL16: 139 | AM16: 9.35 | AN16: 0 | AO16: 23.74 | AP16: 28.78 | AQ16: 0 | AR16: 0 | AS16: 38.13 | AU16: 3.5021769 | AV16: 126 | AW16: 90.647482 | AX16: 115.38462 | AY16: 0 | AZ16: 78.787879 | BA16: 72.5 | BB16: 0 | BE16: 民國 96年 | BF16: 2007 | BG16: 0 | BH16: 105.66038 | BI16: 155 | BJ16: 3.9053052 | BK16: 1053 | BL16: 26.53088 | BM16: 972 | BN16: 92.307692 | BP16: 687 | BQ16: 47.16 | BR16: 51.38 | BS16: 1.46 | BT16: 0 | BU16: 773 | BV16: 19.476135 | BW16: 2747.91 | BY16: 民國 96年 | BZ16: 2007 | CA16: 6 | CB16: 0.93 | CC16: 331 | CD16: 95.771306 | CE16: 578 | CF16: 179.90818 | CG16: 3584 | CH16: 134.81489 | CJ16: 183 | CK16: 240654 | CL16: 53.01 | CM16: 54.95 | CP16: 33.33 | CQ16: 43.82 | CR16: 13.66 | CS16: 1.23 | CU16: 民國 96年 | CV16: 2007 | CW16: 33 | CX16: 34 | CY16: 10 | CZ16: 8.9455016 | DA16: 11.086028 | DB16: 162858 | DC16: 97.587469 | DD16: 2.4125312
B17: 民國 97年 | C17: 2008 | D17: 7936 | E17: 53.15 | F17: 1.58 | G17: 12.03 | H17: 8.33 | I17: 8.9 | J17: 16.01 | L17: 197.3133 | M17: 6366 | N17: 80.216734 | O17: 4575 | P17: 113.74853 | R17: 民國 97年 | S17: 2008 | T17: 4218 | U17: 0.05 | V17: 34.35 | W17: 13.99 | X17: 51.61 | Y17: 104.87242 | Z17: 2918 | AA17: #REF! | AB17: 69.179706 | AC17: 0 | AD17: 44.237405 | AE17: 63.050847 | AF17: 87.505742 | AG17: 779 | AH17: 19.368329 | AJ17: 民國 97年 | AK17: 2008 | AL17: 125 | AM17: 8.8 | AN17: 0 | AO17: 15.2 | AP17: 23.2 | AQ17: 0.8 | AR17: 0 | AS17: 52 | AU17: 3.1078833 | AV17: 128 | AW17: 102.4 | AX17: 90.909091 | AY17: 0 | AZ17: 121.05263 | BA17: 110.34483 | BB17: 100 | BE17: 民國 97年 | BF17: 2008 | BG17: 0 | BH17: 95.384615 | BI17: 160 | BJ17: 3.9780907 | BK17: 955 | BL17: 23.744229 | BM17: 1010 | BN17: 105.75916 | BP17: 839 | BQ17: 57.33 | BR17: 41.24 | BS17: 1.31 | BT17: 0.12 | BU17: 941 | BV17: 23.396146 | BW17: 8251.05 | BY17: 民國 97年 | BZ17: 2008 | CA17: 10 | CB17: 1.57 | CC17: 215 | CD17: 61.330443 | CE17: 539 | CF17: 169.54751 | CG17: 3811 | CH17: 140.22681 | CJ17: 177 | CK17: 59825 | CL17: 68.36 | CM17: 90.11 | CP17: 24.29 | CQ17: 2.41 | CR17: 7.35 | CS17: 7.48 | CU17: 民國 97年 | CV17: 2008 | CW17: 28 | CX17: 29 | CY17: 16 | CZ17: 7.3879018 | DA17: 11.18838 | DB17: 217821 | DC17: 98.625018 | DD17: 1.3749822
B18: 民國 98年 | C18: 2009 | D18: 6515 | E18: 48.69 | F18: 1.17 | G18: 11.7 | H18: 8.04 | I18: 13.65 | J18: 16.75 | L18: 159.49412 | M18: 5720 | N18: 87.797391 | O18: 4714 | P18: 115.40373 | R18: 民國 98年 | S18: 2009 | T18: 3172 | U18: 0 | V18: 31.27 | W18: 16.11 | X18: 52.62 | Y18: 77.653931 | Z18: 2354 | AA18: #REF! | AB18: 74.211854 | AC18: 0 | AD18: 68.850806 | AE18: 43.052838 | AF18: 86.938286 | AG18: 768 | AH18: 18.801456 | AJ18: 民國 98年 | AK18: 2009 | AL18: 76 | AM18: 13.16 | AN18: 0 | AO18: 23.68 | AP18: 22.37 | AQ18: 1.32 | AR18: 0 | AS18: 39.47 | AU18: 1.8605608 | AV18: 84 | AW18: 110.52632 | AX18: 130 | AY18: 0 | AZ18: 122.22222 | BA18: 117.64706 | BB18: 100 | BE18: 民國 98年 | BF18: 2009 | BG18: 0 | BH18: 93.333333 | BI18: 109 | BJ18: 2.6684358 | BK18: 762 | BL18: 18.65457 | BM18: 931 | BN18: 122.17848 | BP18: 622 | BQ18: 46.78 | BR18: 50.48 | BS18: 2.73 | BT18: 0 | BU18: 742 | BV18: 18.164949 | BW18: 169344.85 | BY18: 民國 98年 | BZ18: 2009 | CA18: 6 | CB18: 0.95 | CC18: 267 | CD18: 75.352421 | CE18: 510 | CF18: 159.71939 | CG18: 3931 | CH18: 141.27101 | CJ18: 160 | CK18: 251584 | CL18: 60 | CM18: 86.39 | CP18: 20.63 | CQ18: 10.7 | CR18: 19.37 | CS18: 2.91 | CU18: 民國 98年 | CV18: 2009 | CW18: 31 | CX18: 31 | CY18: 10 | CZ18: 7.988054 | DA18: 10.037236 | DB18: 204936 | DC18: 98.87965 | DD18: 1.1203498
B19: 民國 99年 | C19: 2010 | D19: 6386 | E19: 43.78 | F19: 1.08 | G19: 8.83 | H19: 9.9 | I19: 14.66 | J19: 21.75 | L19: 154.45061 | M19: 5676 | N19: 88.881929 | O19: 5049 | P19: 122.11418 | R19: 民國 99年 | S19: 2010 | T19: 2796 | U19: 0 | V19: 30.97 | W19: 17.27 | X19: 51.76 | Y19: 67.623538 | Z19: 2271 | AA19: #REF! | AB19: 81.223176 | AC19: 0 | AD19: 77.020785 | AE19: 66.459627 | AF19: 88.527989 | AG19: 801 | AH19: 19.372838 | AJ19: 民國 99年 | AK19: 2010 | AL19: 69 | AM19: 10.14 | AN19: 1.45 | AO19: 26.09 | AP19: 10.14 | AQ19: 1.45 | AR19: 0 | AS19: 50.73 | AU19: 1.6688212 | AV19: 68 | AW19: 98.550725 | AX19: 100 | AY19: 200 | AZ19: 105.55556 | BA19: 71.428571 | BB19: 100 | BE19: 民國 99年 | BF19: 2010 | BG19: 0 | BH19: 97.142857 | BI19: 98 | BJ19: 2.3702098 | BK19: 564 | BL19: 13.6408 | BM19: 516 | BN19: 91.489362 | BP19: 745 | BQ19: 28.99 | BR19: 66.17 | BS19: 4.83 | BT19: 0 | BU19: 956 | BV19: 23.121639 | BW19: 188759.73 | BY19: 民國 99年 | BZ19: 2010 | CA19: 6 | CB19: 0.97 | CC19: 323 | CD19: 91.422425 | CE19: 707 | CF19: 219.07875 | CG19: 4013 | CH19: 141.448 | CJ19: 168 | CK19: 24773 | CL19: 56.55 | CM19: 78.19 | CN19: 0 | CO19: 0 | CP19: 26.79 | CQ19: 2.85 | CR19: 16.66 | CS19: 18.96 | CU19: 民國 99年 | CV19: 2010 | CW19: 18 | CX19: 19 | CY19: 9 | CZ19: 4.557187 | DA19: 6.7720281 | DB19: 215382 | DC19: 98.751985 | DD19: 1.2480152
B20: =數據資料!B19 -> 民國100年 | C20: =數據資料!C19 -> 2011 | D20: =數據資料!F19 -> 6291 | E20: =ROUND(數據資料!G19/數據資料!$F19*100,2) -> 34.13 | F20: =ROUND(數據資料!H19/數據資料!$F19*100,2) -> 0.91 | G20: =ROUND(數據資料!I19/數據資料!$F19*100,2) -> 6.29 | H20: =ROUND(數據資料!J19/數據資料!$F19*100,2) -> 9.89 | I20: =ROUND(數據資料!K19/數據資料!$F19*100,2) -> 20.36 | J20: =100-SUM(E20:I20) -> 28.42 | L20: =D20/數據資料!E19*10000 -> 150.61121 | M20: =數據資料!M19 -> 5696 | N20: =M20/D20*100 -> 90.542044 | O20: =數據資料!N19 -> 5498 | P20: =O20/數據資料!E19*10000 -> 131.6262 | R20: =B20 -> 民國100年 | S20: =C20 -> 2011 | T20: =數據資料!O19 -> 2147 | U20: =ROUND(數據資料!P19/數據資料!$O19*100,2) -> 0.05 | V20: =ROUND(數據資料!Q19/數據資料!$O19*100,2) -> 39.87 | W20: =ROUND(數據資料!R19/數據資料!$O19*100,2) -> 13.18 | X20: =100-SUM(U20:W20) -> 46.9 | Y20: =T20/數據資料!E19*10000 -> 51.400773 | Z20: =數據資料!T19 -> 1752 | AA20: #REF! | AB20: =Z20/T20*100 -> 81.602236 | AC20: =數據資料!U19/數據資料!P19*100 -> 200 | AD20: =數據資料!V19/數據資料!Q19*100 -> 74.53271 | AE20: =數據資料!W19/數據資料!R19*100 -> 65.017668 | AF20: =數據資料!X19/數據資料!S19*100 -> 92.154916 | AG20: =數據資料!Y19 -> 745 | AH20: =AG20/數據資料!E19*10000 -> 17.835853 | AJ20: =B20 -> 民國100年 | AK20: =C20 -> 2011 | AL20: =數據資料!AA19 -> 57 | AM20: =ROUND(數據資料!AB19/數據資料!$AA19*100,2) -> 15.79 | AN20: =ROUND(數據資料!AC19/數據資料!$AA19*100,2) -> 1.75 | AO20: =ROUND(數據資料!AD19/數據資料!$AA19*100,2) -> 12.28 | AP20: =ROUND(數據資料!AE19/數據資料!$AA19*100,2) -> 10.53 | AQ20: =ROUND(數據資料!AF19/數據資料!$AA19*100,2) -> 1.75 | AR20: =ROUND(數據資料!AG19/數據資料!$AA19*100,2) -> 0 | AS20: =100-SUM(AM20:AR20) -> 57.9 | AU20: =AL20/數據資料!E19*10000 -> 1.3646223 | AV20: =數據資料!AI19 -> 54 | AW20: =AV20/AL20*100 -> 94.736842 | AX20: =數據資料!AJ19/數據資料!AB19*100 -> 100 | AY20: =數據資料!AK19/數據資料!AC19*100 -> 100 | AZ20: =數據資料!AL19/數據資料!AD19*100 -> 114.28571 | BA20: =數據資料!AM19/數據資料!AE19*100 -> 83.333333 | BB20: =數據資料!AN19/數據資料!AF19*100 -> 100 | BE20: =AJ20 -> 民國100年 | BF20: =AK20 -> 2011 | BG20: 0 | BH20: =數據資料!AP19/數據資料!AH19*100 -> 90.909091 | BI20: =數據資料!AQ19 -> 96 | BJ20: =BI20/數據資料!E19*10000 -> 2.2983112 | BK20: =數據資料!AR19 -> 396 | BL20: =BK20/數據資料!E19*10000 -> 9.4805338 | BM20: =數據資料!AS19 -> 363 | BN20: =BM20/BK20*100 -> 91.666667 | BP20: =數據資料!AT19 -> 712 | BQ20: =ROUND(數據資料!AU19/數據資料!$AT19*100,2) -> 31.18 | BR20: =ROUND(數據資料!AV19/數據資料!$AT19*100,2) -> 63.34 | BS20: =ROUND(數據資料!AW19/數據資料!$AT19*100,2) -> 5.2 | BT20: =ROUND(數據資料!AX19/數據資料!$AT19*100,2) -> 0.28 | BU20: =數據資料!AY19 -> 930 | BV20: =BU20/數據資料!E19*10000 -> 22.26489 | BW20: =數據資料!AZ19 -> 555877.04 | BY20: =BE20 -> 民國100年 | BZ20: =BF20 -> 2011 | CA20: =數據資料!BD19 -> 4 | CB20: =數據資料!BE19 -> 0.65 | CC20: =數據資料!BH19 -> 480 | CD20: =數據資料!BI19 -> 137.90924 | CE20: =數據資料!BL19 -> 734 | CF20: =數據資料!BM19 -> 223.99561 | CG20: =數據資料!BP19 -> 4280 | CH20: =數據資料!BQ19 -> 148.39625 | CJ20: =數據資料!BR19 -> 146 | CK20: =數據資料!BS19 -> 88009 | CL20: =ROUND(數據資料!BT19/數據資料!$BR19*100,2) -> 63.7 | CM20: =ROUND(數據資料!BU19/數據資料!$BS19*100,2) -> 74.5 | CN20: =ROUND(數據資料!BV19/數據資料!$BR19*100,2) -> 0 | CO20: =ROUND(數據資料!BW19/數據資料!$BS19*100,2) -> 0 | CP20: =ROUND(數據資料!BX19/數據資料!$BR19*100,2) -> 30.14 | CQ20: =ROUND(數據資料!BY19/數據資料!$BS19*100,2) -> 18.14 | CR20: =100-CL20-CP20 -> 6.16 | CS20: =100-CM20-CQ20 -> 7.36 | CU20: =BY20 -> 民國100年 | CV20: =BZ20 -> 2011 | CW20: =數據資料!CE19 -> 34 | CX20: =數據資料!CF19 -> 36 | CY20: =數據資料!CG19 -> 13 | CZ20: =CW20/數據資料!CD19*100000 -> 8.4270429 | DA20: =(CX20+CY20)/數據資料!E19*100000 -> 11.730964 | DB20: =數據資料!CH19 -> 236468 | DC20: =數據資料!CI19/數據資料!$CH19*100 -> 98.898794 | DD20: =數據資料!CJ19/數據資料!$CH19*100 -> 1.1012061
